BEGIN:VCALENDAR
VERSION:2.0
PRODID:-//Texel International Airport - ECPv6.15.0.1//NONSGML v1.0//EN
CALSCALE:GREGORIAN
METHOD:PUBLISH
X-WR-CALNAME:Texel International Airport
X-ORIGINAL-URL:https://texelairport.nl
X-WR-CALDESC:Evenementen voor Texel International Airport
REFRESH-INTERVAL;VALUE=DURATION:PT1H
X-Robots-Tag:noindex
X-PUBLISHED-TTL:PT1H
BEGIN:VTIMEZONE
TZID:UTC
BEGIN:STANDARD
TZOFFSETFROM:+0000
TZOFFSETTO:+0000
TZNAME:UTC
DTSTART:20210101T000000
END:STANDARD
END:VTIMEZONE
BEGIN:VEVENT
DTSTART;TZID=UTC:20220827T000000
DTEND;TZID=UTC:20220827T235959
DTSTAMP:20260423T104052
CREATED:20210427T073310Z
LAST-MODIFIED:20230116T221725Z
UID:274-1661558400-1661644799@texelairport.nl
SUMMARY:Texel Fly-in
DESCRIPTION:The biggest fly-in of the Netherlands! For more information and to register visit www.texelflyin.nl.
URL:https://texelairport.nl/event/tropical-sea-festival/
CATEGORIES:Op het eiland
END:VEVENT
BEGIN:VEVENT
DTSTART;TZID=UTC:20210807T000000
DTEND;TZID=UTC:20210807T235959
DTSTAMP:20260423T104052
CREATED:20210427T072919Z
LAST-MODIFIED:20210427T073844Z
UID:270-1628294400-1628380799@texelairport.nl
SUMMARY:Haven-VIS-tijn Oudeschild
DESCRIPTION:
URL:https://texelairport.nl/event/haven-vis-tijn-oudeschild/
CATEGORIES:Op het eiland
END:VEVENT
BEGIN:VEVENT
DTSTART;TZID=UTC:20210722T000000
DTEND;TZID=UTC:20210722T235959
DTSTAMP:20260423T104052
CREATED:20210427T072608Z
LAST-MODIFIED:20210427T073925Z
UID:268-1626912000-1626998399@texelairport.nl
SUMMARY:Landbouwdag in Den Hoorn
DESCRIPTION:
URL:https://texelairport.nl/event/landbouwdag-in-den-hoorn/
CATEGORIES:Op het eiland
END:VEVENT
BEGIN:VEVENT
DTSTART;TZID=UTC:20210710T000000
DTEND;TZID=UTC:20210710T235959
DTSTAMP:20260423T104052
CREATED:20210427T071532Z
LAST-MODIFIED:20210427T073946Z
UID:264-1625875200-1625961599@texelairport.nl
SUMMARY:Sun Beats (dance event op het strand)
DESCRIPTION:
URL:https://texelairport.nl/event/sun-beats-dance-event-op-het-strand/
CATEGORIES:Op het eiland
END:VEVENT
BEGIN:VEVENT
DTSTART;TZID=UTC:20210626T000000
DTEND;TZID=UTC:20210626T235959
DTSTAMP:20260423T104052
CREATED:20210401T182111Z
LAST-MODIFIED:20210427T073851Z
UID:201-1624665600-1624751999@texelairport.nl
SUMMARY:Ronde om Texel
DESCRIPTION:Catamaran race\, zie ook www.roundtexel.com
URL:https://texelairport.nl/event/ronde-om-texel/
CATEGORIES:Op het eiland
END:VEVENT
END:VCALENDAR